BEGIN:VCALENDAR
PRODID:-//eluceo/ical//2.0/EN
VERSION:2.0
CALSCALE:GREGORIAN
BEGIN:VEVENT
UID:eea8d291ba963428956156ba3bb24bc9
DTSTAMP:20260419T143009Z
SUMMARY:Réunion statutaire: Présentation du ROTARY
DESCRIPTION:À la lecture de votre journal local\, ou lors d’une conversa
 tion entre amis\, vous avez sans doute entendu parler un jour ou l’autre
  du ROTARY INTERNATIONAL\, peut-être même avez-vous eu l’occasion de l
 e côtoyer de près.\n\nLe Club de CASSEL/WORMHOUT en Flandre aimerait se 
 faire mieux connaitre de vous et pour cela\, il organise une réunion d’
 information à laquelle il vous invite :\n \nMercredi 18 avril à 20 h\na
 u Restaurant « LE SAUVAGE » \, 36 Grand Place à CASSEL\n\nA l’issue d
 e celle-ci\, lors d’un cocktail dinatoire\, ses membres seront heureux d
 e répondre à toutes vos questions.\n\nD’ores et déjà\, sachez que no
 tre Mouvement réunit plus de 1.200.000 membres à travers le monde entier
  (170 pays). Il réunit des responsables professionnels à l’éthique ir
 réprochable. Le ROTARY ambitionne de contribuer\, par tous moyens\, à la
  meilleure entente entre les peuples. Les Rotariens sont des messagers de 
 paix\, hommes et femmes\, qui viennent d’horizons variés et agissent pa
 rtout où ils peuvent être utiles\, sans aucune référence politique ou 
 confessionnelle.\nConférencier(s): Présentation du Rotary à destination
  du grand public.\nConférencier: Jean-Pierre BATAILLE\, Past Gouverneur D
 1520\, Past Président RC Cassel Wormhout en Flandre
URL:https://cassel-wormhout.rotaryd1520.org/fr/agenda/show/11716
DTSTART;TZID=Europe/Zurich:20180418T200000
DTEND;TZID=Europe/Zurich:20180418T213000
LOCATION:Restaurant Le Sauvage
CATEGORIES:Rotary
END:VEVENT
BEGIN:VTIMEZONE
TZID:Europe/Zurich
BEGIN:DAYLIGHT
DTSTART:20180418T200000
TZNAME:CEST
TZOFFSETTO:+0200
TZOFFSETFROM:+0200
END:DAYLIGHT
END:VTIMEZONE
END:VCALENDAR
